BEGIN:VCALENDAR
VERSION:2.0
PRODID:SchoolNow
CALSCALE:GREGORIAN
BEGIN:VEVENT
UID:ffe575ba-2c67-11f0-8d2d-0a58a9feac02
DTSTAMP:20251216T154524Z
SUMMARY:Emergency School Day
URL;VALUE=URI:https://www.cusd201.org/miller/calendar/8093524/emergency-sch
 ool-day
DTSTART;VALUE=DATE:20260604
DTEND;VALUE=DATE:20260605
END:VEVENT
END:VCALENDAR
