BEGIN:VCALENDAR
VERSION:2.0
PRODID:SchoolNow
CALSCALE:GREGORIAN
BEGIN:VEVENT
UID:f6f6e380-4085-11f0-8cf8-0e22626e6ad1
DTSTAMP:20251216T154524Z
SUMMARY:No School - Institute Day
URL;VALUE=URI:https://www.cusd201.org/miller/calendar/8246117/no-school-ins
 titute-day
DTSTART;VALUE=DATE:20250818
DTEND;VALUE=DATE:20250819
END:VEVENT
END:VCALENDAR
