BEGIN:VCALENDAR
VERSION:2.0
PRODID:SchoolNow
CALSCALE:GREGORIAN
BEGIN:VEVENT
UID:f6f6e7ea-4085-11f0-a244-0e22626e6ad1
DTSTAMP:20251216T154524Z
SUMMARY:First Day of School (PLC)
URL;VALUE=URI:https://www.cusd201.org/miller/calendar/8246119/first-day-of-
 school-plc
DTSTART;VALUE=DATE:20250820
DTEND;VALUE=DATE:20250821
END:VEVENT
END:VCALENDAR
