BEGIN:VCALENDAR
VERSION:2.0
PRODID:SchoolNow
CALSCALE:GREGORIAN
BEGIN:VEVENT
UID:eb0f8d6a-4184-11f0-ad7d-0a58a9feac02
DTSTAMP:20251216T154524Z
SUMMARY:Miller Curriculum Night
URL;VALUE=URI:https://www.cusd201.org/miller/calendar/8253495/miller-curric
 ulum-night
DTSTART:20250828T220000Z
DTEND:20250828T230000Z
END:VEVENT
END:VCALENDAR
