BEGIN:VCALENDAR
VERSION:2.0
PRODID:SchoolNow
CALSCALE:GREGORIAN
BEGIN:VEVENT
UID:eb0f8e50-4184-11f0-a735-0a58a9feac02
DTSTAMP:20251216T154524Z
SUMMARY:Miller Fall Festivals & Parade
URL;VALUE=URI:https://www.cusd201.org/miller/calendar/8253496/miller-fall-f
 estivals-parade
DTSTART:20251031T172000Z
DTEND:20251031T183000Z
END:VEVENT
END:VCALENDAR
