BEGIN:VCALENDAR
VERSION:2.0
PRODID:SchoolNow
CALSCALE:GREGORIAN
BEGIN:VEVENT
UID:eb0f8f7c-4184-11f0-9c5a-0a58a9feac02
DTSTAMP:20251216T154524Z
SUMMARY:End Quarter 1
URL;VALUE=URI:https://www.cusd201.org/miller/calendar/8253497/end-quarter-1
DTSTART;VALUE=DATE:20251017
DTEND;VALUE=DATE:20251018
END:VEVENT
END:VCALENDAR
