BEGIN:VCALENDAR
VERSION:2.0
PRODID:SchoolNow
CALSCALE:GREGORIAN
BEGIN:VEVENT
UID:eb0f9346-4184-11f0-8b55-0a58a9feac02
DTSTAMP:20251216T154524Z
SUMMARY:End Quarter 3
URL;VALUE=URI:https://www.cusd201.org/miller/calendar/8253501/end-quarter-3
DTSTART;VALUE=DATE:20260313
DTEND;VALUE=DATE:20260314
END:VEVENT
END:VCALENDAR
