BEGIN:VCALENDAR
VERSION:2.0
PRODID:SchoolNow
CALSCALE:GREGORIAN
BEGIN:VEVENT
UID:eb0f9422-4184-11f0-81e2-0a58a9feac02
DTSTAMP:20251216T154524Z
SUMMARY:Preschool Screening
LOCATION:South-1-Conference Room (50)
URL;VALUE=URI:https://www.cusd201.org/miller/calendar/8253502/preschool-scr
 eening
DTSTART:20250821T130000Z
DTEND:20250821T160000Z
END:VEVENT
END:VCALENDAR
