BEGIN:VCALENDAR
VERSION:2.0
PRODID:SchoolNow
CALSCALE:GREGORIAN
BEGIN:VEVENT
UID:eb0f9616-4184-11f0-8800-0a58a9feac02
DTSTAMP:20251216T154524Z
SUMMARY:End Quarter 2
URL;VALUE=URI:https://www.cusd201.org/miller/calendar/8253504/end-quarter-2
DTSTART;VALUE=DATE:20251219
DTEND;VALUE=DATE:20251220
END:VEVENT
END:VCALENDAR
