BEGIN:VCALENDAR
VERSION:2.0
PRODID:SchoolNow
CALSCALE:GREGORIAN
BEGIN:VEVENT
UID:eb0f96f2-4184-11f0-b7f0-0a58a9feac02
DTSTAMP:20251216T154524Z
SUMMARY:PLC Dismissal
URL;VALUE=URI:https://www.cusd201.org/miller/calendar/8253505/plc-dismissal
DTSTART;VALUE=DATE:20251219
DTEND;VALUE=DATE:20251220
END:VEVENT
END:VCALENDAR
