BEGIN:VCALENDAR
VERSION:2.0
PRODID:SchoolNow
CALSCALE:GREGORIAN
BEGIN:VEVENT
UID:eb58dccc-4184-11f0-8aff-0a58a9feac02
DTSTAMP:20251216T154524Z
SUMMARY:KG Dismissal at 11:25 am
URL;VALUE=URI:https://www.cusd201.org/miller/calendar/8253507/kg-dismissal-
 at-11-25-am
DTSTART;VALUE=DATE:20250821
DTEND;VALUE=DATE:20250822
END:VEVENT
END:VCALENDAR
