BEGIN:VCALENDAR
VERSION:2.0
PRODID:SchoolNow
CALSCALE:GREGORIAN
BEGIN:VEVENT
UID:eb58de16-4184-11f0-b99c-0a58a9feac02
DTSTAMP:20251216T154524Z
SUMMARY:KG Dismissal at 11:25 am
URL;VALUE=URI:https://www.cusd201.org/miller/calendar/8253508/kg-dismissal-
 at-11-25-am
DTSTART;VALUE=DATE:20250822
DTEND;VALUE=DATE:20250823
END:VEVENT
END:VCALENDAR
