BEGIN:VCALENDAR
VERSION:2.0
PRODID:SchoolNow
CALSCALE:GREGORIAN
BEGIN:VEVENT
UID:e4f489fc-41b7-11f0-98ce-0affc133eb9f
DTSTAMP:20251216T154524Z
SUMMARY:PLC Dismissal
URL;VALUE=URI:https://www.cusd201.org/miller/calendar/8254749/plc-dismissal
DTSTART;VALUE=DATE:20260529
DTEND;VALUE=DATE:20260530
END:VEVENT
END:VCALENDAR
