BEGIN:VCALENDAR
VERSION:2.0
PRODID:SchoolNow
CALSCALE:GREGORIAN
BEGIN:VEVENT
UID:d572e480-576d-11f0-b060-0a58a9feac02
DTSTAMP:20251216T154524Z
SUMMARY:Kindergarten Q1 Intentional Planning Day
URL;VALUE=URI:https://www.cusd201.org/miller/calendar/8378012/kindergarten-
 q1-intentional-planning-day
DTSTART:20250905T131000Z
DTEND:20250905T194000Z
END:VEVENT
END:VCALENDAR
