BEGIN:VCALENDAR
VERSION:2.0
PRODID:SchoolNow
CALSCALE:GREGORIAN
BEGIN:VEVENT
UID:d572e8ea-576d-11f0-8499-0a58a9feac02
DTSTAMP:20251216T154524Z
SUMMARY:1st Grade Q2 Intentional Planning Day
URL;VALUE=URI:https://www.cusd201.org/miller/calendar/8378014/1st-grade-q2-
 intentional-planning-day
DTSTART:20251016T131000Z
DTEND:20251016T194000Z
END:VEVENT
END:VCALENDAR
