BEGIN:VCALENDAR
VERSION:2.0
PRODID:SchoolNow
CALSCALE:GREGORIAN
BEGIN:VEVENT
UID:d572e9ee-576d-11f0-824b-0a58a9feac02
DTSTAMP:20251216T154524Z
SUMMARY:Kindergarten Q2 Intentional Planning Day
URL;VALUE=URI:https://www.cusd201.org/miller/calendar/8378015/kindergarten-
 q2-intentional-planning-day
DTSTART:20251017T131000Z
DTEND:20251017T194000Z
END:VEVENT
END:VCALENDAR
