BEGIN:VCALENDAR
VERSION:2.0
PRODID:SchoolNow
CALSCALE:GREGORIAN
BEGIN:VEVENT
UID:d572eaf2-576d-11f0-b595-0a58a9feac02
DTSTAMP:20251216T154524Z
SUMMARY:1st Grade Q3 Intentional Planning Day
URL;VALUE=URI:https://www.cusd201.org/miller/calendar/8378016/1st-grade-q3-
 intentional-planning-day
DTSTART:20251211T141000Z
DTEND:20251211T204000Z
END:VEVENT
END:VCALENDAR
