BEGIN:VCALENDAR
VERSION:2.0
PRODID:SchoolNow
CALSCALE:GREGORIAN
BEGIN:VEVENT
UID:d572ebe2-576d-11f0-96ee-0a58a9feac02
DTSTAMP:20251216T154524Z
SUMMARY:Kindergarten Q3 Intentional Planning Day
URL;VALUE=URI:https://www.cusd201.org/miller/calendar/8378017/kindergarten-
 q3-intentional-planning-day
DTSTART:20251210T141000Z
DTEND:20251210T204000Z
END:VEVENT
END:VCALENDAR
