BEGIN:VCALENDAR
VERSION:2.0
PRODID:SchoolNow
CALSCALE:GREGORIAN
BEGIN:VEVENT
UID:d572ecd2-576d-11f0-a412-0a58a9feac02
DTSTAMP:20251216T154524Z
SUMMARY:Kindergarten Q4 Intentional Planning Day
URL;VALUE=URI:https://www.cusd201.org/miller/calendar/8378018/kindergarten-
 q4-intentional-planning-day
DTSTART:20260310T131000Z
DTEND:20260310T194000Z
END:VEVENT
END:VCALENDAR
