BEGIN:VCALENDAR
VERSION:2.0
PRODID:SchoolNow
CALSCALE:GREGORIAN
BEGIN:VEVENT
UID:d572edb8-576d-11f0-afc3-0a58a9feac02
DTSTAMP:20251216T154524Z
SUMMARY:1st Grade Q4 Intentional Planning Day
URL;VALUE=URI:https://www.cusd201.org/miller/calendar/8378019/1st-grade-q4-
 intentional-planning-day
DTSTART:20260306T141000Z
DTEND:20260306T204000Z
END:VEVENT
END:VCALENDAR
