BEGIN:VCALENDAR
VERSION:2.0
PRODID:SchoolNow
CALSCALE:GREGORIAN
BEGIN:VEVENT
UID:118a7244-6691-11f0-a1a6-0a58a9feac02
DTSTAMP:20251216T154524Z
SUMMARY:New Teachers Mtg @ Jr High Library
URL;VALUE=URI:https://www.cusd201.org/miller/calendar/8435717/new-teachers-
 mtg-jr-high-library
DTSTART:20251209T213000Z
DTEND:20251209T223000Z
END:VEVENT
END:VCALENDAR
