BEGIN:VCALENDAR
VERSION:2.0
PRODID:SchoolNow
CALSCALE:GREGORIAN
BEGIN:VEVENT
UID:118a7370-6691-11f0-8b34-0a58a9feac02
DTSTAMP:20251216T154524Z
SUMMARY:New Teachers Mtg @ HS Library
URL;VALUE=URI:https://www.cusd201.org/miller/calendar/8435718/new-teachers-
 mtg-hs-library
DTSTART:20260120T213000Z
DTEND:20260120T223000Z
END:VEVENT
END:VCALENDAR
