BEGIN:VCALENDAR
VERSION:2.0
PRODID:SchoolNow
CALSCALE:GREGORIAN
BEGIN:VEVENT
UID:118a7474-6691-11f0-a49c-0a58a9feac02
DTSTAMP:20251216T154524Z
SUMMARY:New Teachers Mtg @ Miller Library
URL;VALUE=URI:https://www.cusd201.org/miller/calendar/8435719/new-teachers-
 mtg-miller-library
DTSTART;VALUE=DATE:20260217
DTEND;VALUE=DATE:20260218
END:VEVENT
END:VCALENDAR
