BEGIN:VCALENDAR
VERSION:2.0
PRODID:SchoolNow
CALSCALE:GREGORIAN
BEGIN:VEVENT
UID:783c49b2-72ea-11f0-a274-02a736722745
DTSTAMP:20251216T154524Z
SUMMARY:Miller Supply Drop Off/Meet Your Teacher
URL;VALUE=URI:https://www.cusd201.org/miller/calendar/8476696/miller-supply
 -drop-off-meet-your-teacher
DTSTART:20250818T183000Z
DTEND:20250818T193000Z
END:VEVENT
END:VCALENDAR
