BEGIN:VCALENDAR
VERSION:2.0
PRODID:SchoolNow
CALSCALE:GREGORIAN
BEGIN:VEVENT
UID:ccb53aec-7f76-11f0-bcf8-024dc1308487
DTSTAMP:20251216T154524Z
SUMMARY:No School
URL;VALUE=URI:https://www.cusd201.org/miller/calendar/8532338/no-school
DTSTART;VALUE=DATE:20251009
DTEND;VALUE=DATE:20251010
END:VEVENT
END:VCALENDAR
