BEGIN:VCALENDAR
VERSION:2.0
PRODID:SchoolNow
CALSCALE:GREGORIAN
BEGIN:VEVENT
UID:8671936e-8372-11f0-b624-02fb99ac74a5
DTSTAMP:20251216T154524Z
SUMMARY:Bus Evacuation Drill (2 buses)
URL;VALUE=URI:https://www.cusd201.org/miller/calendar/8550445/bus-evacuatio
 n-drill-2-buses
DTSTART:20250909T133000Z
DTEND:20250909T153000Z
END:VEVENT
END:VCALENDAR
