BEGIN:VCALENDAR
VERSION:2.0
PRODID:SchoolNow
CALSCALE:GREGORIAN
BEGIN:VEVENT
UID:3927ff52-899f-11f0-b8bb-02e87181c94b
DTSTAMP:20251216T154524Z
SUMMARY:Dodgeball Night @ Manning
URL;VALUE=URI:https://www.cusd201.org/miller/calendar/8578581/dodgeball-nig
 ht-manning
DTSTART;VALUE=DATE:20251023
DTEND;VALUE=DATE:20251024
END:VEVENT
END:VCALENDAR
