BEGIN:VCALENDAR
VERSION:2.0
PRODID:SchoolNow
CALSCALE:GREGORIAN
BEGIN:VEVENT
UID:376899e6-89d2-11f0-a653-0a58a9feac02
DTSTAMP:20251216T154524Z
SUMMARY:WJHS Swing Choir and Jazz Band Tour
URL;VALUE=URI:https://www.cusd201.org/miller/calendar/8581394/wjhs-swing-ch
 oir-and-jazz-band-tour
DTSTART:20260331T140000Z
DTEND:20260331T144500Z
END:VEVENT
END:VCALENDAR
