BEGIN:VCALENDAR
VERSION:2.0
PRODID:SchoolNow
CALSCALE:GREGORIAN
BEGIN:VEVENT
UID:4e312796-9b26-11f0-a4e6-0e93a30ae16b
DTSTAMP:20251216T154524Z
SUMMARY:Flag Football Intramural Club
URL;VALUE=URI:https://www.cusd201.org/miller/calendar/8668515/flag-football
 -intramural-club
DTSTART:20251020T194500Z
DTEND:20251020T210000Z
END:VEVENT
END:VCALENDAR
