BEGIN:VCALENDAR
VERSION:2.0
PRODID:SchoolNow
CALSCALE:GREGORIAN
BEGIN:VEVENT
UID:4e312c82-9b26-11f0-9dda-0e93a30ae16b
DTSTAMP:20251216T154524Z
SUMMARY:Flag Football Intramural Club
URL;VALUE=URI:https://www.cusd201.org/miller/calendar/8668518/flag-football
 -intramural-club
DTSTART:20251110T204500Z
DTEND:20251110T220000Z
END:VEVENT
END:VCALENDAR
