BEGIN:VCALENDAR
VERSION:2.0
PRODID:SchoolNow
CALSCALE:GREGORIAN
BEGIN:VEVENT
UID:8eb16314-a9e3-11f0-8674-0a58a9feac02
DTSTAMP:20251216T154524Z
SUMMARY:Miller: Fall Book Club
URL;VALUE=URI:https://www.cusd201.org/miller/calendar/8724321/miller-fall-b
 ook-club
DTSTART:20251030T200000Z
DTEND:20251030T210000Z
END:VEVENT
END:VCALENDAR
