BEGIN:VCALENDAR
VERSION:2.0
PRODID:SchoolNow
CALSCALE:GREGORIAN
BEGIN:VEVENT
UID:8eb16544-a9e3-11f0-b084-0a58a9feac02
DTSTAMP:20251216T154524Z
SUMMARY:Miller: Fall Book Club
URL;VALUE=URI:https://www.cusd201.org/miller/calendar/8724323/miller-fall-b
 ook-club
DTSTART:20251113T210000Z
DTEND:20251113T220000Z
END:VEVENT
END:VCALENDAR
