BEGIN:VCALENDAR
VERSION:2.0
PRODID:SchoolNow
CALSCALE:GREGORIAN
BEGIN:VEVENT
UID:8eb16742-a9e3-11f0-91e3-0a58a9feac02
DTSTAMP:20251216T154524Z
SUMMARY:Miller: Ag Club
URL;VALUE=URI:https://www.cusd201.org/miller/calendar/8724325/miller-ag-clu
 b
DTSTART:20251028T200000Z
DTEND:20251028T210000Z
END:VEVENT
END:VCALENDAR
