BEGIN:VCALENDAR
VERSION:2.0
PRODID:SchoolNow
CALSCALE:GREGORIAN
BEGIN:VEVENT
UID:8eb1683c-a9e3-11f0-9a9a-0a58a9feac02
DTSTAMP:20251216T154524Z
SUMMARY:Miller: Ag Club
URL;VALUE=URI:https://www.cusd201.org/miller/calendar/8724326/miller-ag-clu
 b
DTSTART:20251104T210000Z
DTEND:20251104T220000Z
END:VEVENT
END:VCALENDAR
