BEGIN:VCALENDAR
VERSION:2.0
PRODID:SchoolNow
CALSCALE:GREGORIAN
BEGIN:VEVENT
UID:8eb1692c-a9e3-11f0-a8ae-0a58a9feac02
DTSTAMP:20251216T154524Z
SUMMARY:Miller: Ag Club
URL;VALUE=URI:https://www.cusd201.org/miller/calendar/8724327/miller-ag-clu
 b
DTSTART:20251111T210000Z
DTEND:20251111T220000Z
END:VEVENT
END:VCALENDAR
