BEGIN:VCALENDAR
VERSION:2.0
PRODID:SchoolNow
CALSCALE:GREGORIAN
BEGIN:VEVENT
UID:70d727b2-aec4-11f0-a906-0afffc2bbfe3
DTSTAMP:20251216T154524Z
SUMMARY:Red Ribbon Week Pajama Day!
URL;VALUE=URI:https://www.cusd201.org/miller/calendar/8740384/red-ribbon-we
 ek-pajama-day
DTSTART;VALUE=DATE:20251027
DTEND;VALUE=DATE:20251028
END:VEVENT
END:VCALENDAR
