BEGIN:VCALENDAR
VERSION:2.0
PRODID:SchoolNow
CALSCALE:GREGORIAN
BEGIN:VEVENT
UID:70d72dde-aec4-11f0-a30f-0afffc2bbfe3
DTSTAMP:20251216T154524Z
SUMMARY:Red Ribbon Week Sports Jersey Day!
URL;VALUE=URI:https://www.cusd201.org/miller/calendar/8740385/red-ribbon-we
 ek-sports-jersey-day
DTSTART;VALUE=DATE:20251028
DTEND;VALUE=DATE:20251029
END:VEVENT
END:VCALENDAR
