BEGIN:VCALENDAR
VERSION:2.0
PRODID:SchoolNow
CALSCALE:GREGORIAN
BEGIN:VEVENT
UID:70d72f50-aec4-11f0-bd97-0afffc2bbfe3
DTSTAMP:20251216T154524Z
SUMMARY:Red Ribbon Week Crazy Hat or Hair!
URL;VALUE=URI:https://www.cusd201.org/miller/calendar/8740386/red-ribbon-we
 ek-crazy-hat-or-hair
DTSTART;VALUE=DATE:20251029
DTEND;VALUE=DATE:20251030
END:VEVENT
END:VCALENDAR
