BEGIN:VCALENDAR
VERSION:2.0
PRODID:SchoolNow
CALSCALE:GREGORIAN
BEGIN:VEVENT
UID:70d73068-aec4-11f0-8094-0afffc2bbfe3
DTSTAMP:20251216T154524Z
SUMMARY:Red Ribbon Week Dress as twin or triplet Manning/Miller spiritwear!
URL;VALUE=URI:https://www.cusd201.org/miller/calendar/8740387/red-ribbon-we
 ek-dress-as-twin-or-triplet-manning-miller-spiritwear
DTSTART;VALUE=DATE:20251030
DTEND;VALUE=DATE:20251031
END:VEVENT
END:VCALENDAR
