BEGIN:VCALENDAR
VERSION:2.0
PRODID:SchoolNow
CALSCALE:GREGORIAN
BEGIN:VEVENT
UID:70d73248-aec4-11f0-bd96-0afffc2bbfe3
DTSTAMP:20251216T154524Z
SUMMARY:Red Ribbon Week Halloween costume !
URL;VALUE=URI:https://www.cusd201.org/miller/calendar/8740388/red-ribbon-we
 ek-halloween-costume
DTSTART;VALUE=DATE:20251031
DTEND;VALUE=DATE:20251101
END:VEVENT
END:VCALENDAR
