BEGIN:VCALENDAR
VERSION:2.0
PRODID:SchoolNow
CALSCALE:GREGORIAN
BEGIN:VEVENT
UID:3081da14-b38c-11f0-b323-027526d3115b
DTSTAMP:20251216T154524Z
SUMMARY:Kids Holiday Shop
URL;VALUE=URI:https://www.cusd201.org/miller/calendar/8755622/kids-holiday-
 shop
DTSTART:20251121T233000Z
DTEND:20251122T010000Z
END:VEVENT
END:VCALENDAR
