BEGIN:VCALENDAR
VERSION:2.0
PRODID:SchoolNow
CALSCALE:GREGORIAN
BEGIN:VEVENT
UID:3081e108-b38c-11f0-9fc7-027526d3115b
DTSTAMP:20251216T154524Z
SUMMARY:Kids Holiday Shop
URL;VALUE=URI:https://www.cusd201.org/miller/calendar/8755623/kids-holiday-
 shop
DTSTART:20251122T150000Z
DTEND:20251122T180000Z
END:VEVENT
END:VCALENDAR
