BEGIN:VCALENDAR
VERSION:2.0
PRODID:SchoolNow
CALSCALE:GREGORIAN
BEGIN:VEVENT
UID:a7e516e4-be80-11f0-9b84-0afff5cf8413
DTSTAMP:20251216T154524Z
SUMMARY:Miller: Intramural Club (Dodgeball)
URL;VALUE=URI:https://www.cusd201.org/miller/calendar/8788157/miller-intram
 ural-club-dodgeball
DTSTART:20251201T204500Z
DTEND:20251201T220000Z
END:VEVENT
END:VCALENDAR
