BEGIN:VCALENDAR
VERSION:2.0
PRODID:SchoolNow
CALSCALE:GREGORIAN
BEGIN:VEVENT
UID:fe8daf48-3fe4-11f1-b42d-0a58a9feac02
DTSTAMP:20260424T142448Z
SUMMARY:Intramural Club #3
URL;VALUE=URI:https://www.cusd201.org/miller/calendar/9016201/intramural-cl
 ub-3
DTSTART:20260427T194500Z
DTEND:20260427T210000Z
END:VEVENT
END:VCALENDAR
