BEGIN:VCALENDAR
VERSION:2.0
PRODID:SchoolNow
CALSCALE:GREGORIAN
BEGIN:VEVENT
UID:fe8db024-3fe4-11f1-898b-0a58a9feac02
DTSTAMP:20260424T142448Z
SUMMARY:Intramural Club #3
URL;VALUE=URI:https://www.cusd201.org/miller/calendar/9016202/intramural-cl
 ub-3
DTSTART:20260504T194500Z
DTEND:20260504T210000Z
END:VEVENT
END:VCALENDAR
