BEGIN:VCALENDAR
VERSION:2.0
PRODID:SchoolNow
CALSCALE:GREGORIAN
BEGIN:VEVENT
UID:4dcf8374-300f-11f0-9fe3-02cc0c8379f7
DTSTAMP:20251216T154523Z
SUMMARY:VOLLEYBALL-F Girls @ Indian Creek (Game)
LOCATION:Away - Indian Creek
URL;VALUE=URI:https://www.cusd201.org/whs/athletics/calendar/8127738/volley
 ball-f-girls-indian-creek-game
DTSTART:20250908T213000Z
DTEND:20250908T223000Z
END:VEVENT
END:VCALENDAR
