BEGIN:VCALENDAR
VERSION:2.0
PRODID:SchoolNow
CALSCALE:GREGORIAN
BEGIN:VEVENT
UID:4dcfa4da-300f-11f0-a7c4-02cc0c8379f7
DTSTAMP:20251216T154522Z
SUMMARY:VOLLEYBALL-V Girls @ Indian Creek (Game)
LOCATION:Away - Indian Creek
URL;VALUE=URI:https://www.cusd201.org/whs/athletics/calendar/8127739/volley
 ball-v-girls-indian-creek-game
DTSTART:20250908T233000Z
DTEND:20250909T003000Z
END:VEVENT
END:VCALENDAR
