BEGIN:VCALENDAR
VERSION:2.0
PRODID:SchoolNow
CALSCALE:GREGORIAN
BEGIN:VEVENT
UID:4dcfa692-300f-11f0-8ed0-02cc0c8379f7
DTSTAMP:20251216T154523Z
SUMMARY:VOLLEYBALL-JV Girls @ Indian Creek (Game)
LOCATION:Away - Indian Creek
URL;VALUE=URI:https://www.cusd201.org/whs/athletics/calendar/8127740/volley
 ball-jv-girls-indian-creek-game
DTSTART:20250908T223000Z
DTEND:20250908T233000Z
END:VEVENT
END:VCALENDAR
