BEGIN:VCALENDAR
VERSION:2.0
PRODID:SchoolNow
CALSCALE:GREGORIAN
BEGIN:VEVENT
UID:4dcfa8b8-300f-11f0-8157-02cc0c8379f7
DTSTAMP:20251216T154523Z
SUMMARY:BASKETBALL-S Boys - VS Wilmington (Game)
LOCATION:HOME - Westmont HS Gym
URL;VALUE=URI:https://www.cusd201.org/whs/athletics/calendar/8127742/basket
 ball-s-boys-vs-wilmington-game
DTSTART:20260117T170000Z
DTEND:20260117T183000Z
END:VEVENT
END:VCALENDAR
