BEGIN:VCALENDAR
VERSION:2.0
PRODID:SchoolNow
CALSCALE:GREGORIAN
BEGIN:VEVENT
UID:4dcfaaa2-300f-11f0-bdd7-02cc0c8379f7
DTSTAMP:20251216T154523Z
SUMMARY:FOOTBALL-V Boys @ Fisher (Game)
LOCATION:Away - Fisher
URL;VALUE=URI:https://www.cusd201.org/whs/athletics/calendar/8127744/footba
 ll-v-boys-fisher-game
DTSTART:20250920T000000Z
DTEND:20250920T023000Z
END:VEVENT
END:VCALENDAR
